BEGIN:VCALENDAR
VERSION:2.0
PRODID:-//ESWP - ECPv6.15.20//NONSGML v1.0//EN
CALSCALE:GREGORIAN
METHOD:PUBLISH
X-WR-CALNAME:ESWP
X-ORIGINAL-URL:https://eswp.com
X-WR-CALDESC:Events for ESWP
REFRESH-INTERVAL;VALUE=DURATION:PT1H
X-Robots-Tag:noindex
X-PUBLISHED-TTL:PT1H
BEGIN:VTIMEZONE
TZID:America/New_York
BEGIN:DAYLIGHT
TZOFFSETFROM:-0500
TZOFFSETTO:-0400
TZNAME:EDT
DTSTART:20180311T070000
END:DAYLIGHT
BEGIN:STANDARD
TZOFFSETFROM:-0400
TZOFFSETTO:-0500
TZNAME:EST
DTSTART:20181104T060000
END:STANDARD
BEGIN:DAYLIGHT
TZOFFSETFROM:-0500
TZOFFSETTO:-0400
TZNAME:EDT
DTSTART:20190310T070000
END:DAYLIGHT
BEGIN:STANDARD
TZOFFSETFROM:-0400
TZOFFSETTO:-0500
TZNAME:EST
DTSTART:20191103T060000
END:STANDARD
BEGIN:DAYLIGHT
TZOFFSETFROM:-0500
TZOFFSETTO:-0400
TZNAME:EDT
DTSTART:20200308T070000
END:DAYLIGHT
BEGIN:STANDARD
TZOFFSETFROM:-0400
TZOFFSETTO:-0500
TZNAME:EST
DTSTART:20201101T060000
END:STANDARD
END:VTIMEZONE
BEGIN:VEVENT
DTSTART;TZID=America/New_York:20190313T080000
DTEND;TZID=America/New_York:20190314T140000
DTSTAMP:20260424T080726
CREATED:20190109T211337Z
LAST-MODIFIED:20190109T211358Z
UID:10000067-1552464000-1552572000@eswp.com
SUMMARY:Design Lives Here
DESCRIPTION:Design Lives Here is a semester-long engineering initiative that equips teachers and students to participate in engineering activities within their school or afterschool program. Professional engineers serve as mentors to students throughout the year. Schools who participate are diverse – public\, parochial and private – and have the option of making this part of their school day or an extended program. Each spring\, all the participants come together for a day of engineering challenges\, grouped in new teams to compete for prizes. Design Lives Here activities are inspired by the popular PBS KIDS program and website\, Design Squad Nation. \nThe 2018-2019 Design Lives Here initiative is a project of WQED Multimedia\, with major underwriting by MSA and PPG\, and additional support from ANSYS\, Rolls-Royce\, Arconic\, Daedalus\, Independence Excavating\, and founding partner the Engineers Society of Western PA. \nSince Design Lives Here began\, it has impacted thousands of students in our viewing area! \n  \nParticipating Schools: \nBlessed Trinity Academy\nElizabeth Forward Middle School\nFranklin Regional\nHaines Middle School\nIndependence Middle School\nJ.E. Harrison Middle School\nMarshall Elementary- North Allegheny\nMoon Middle School\nNew Kensington Arnold School District\nOur Lady of Most Blessed Sacrament\nPropel East\nRyan Gloyer Middle School-Seneca Valley\nSchiller STEAM Academy\nSt. Phillip \n  \nFor more information about Design Lives Here visit – https://www.wqed.org/education/designliveshere \n  \nIf you are interested in being a judge for the event\, please contact t.bombalski@eswp.com. You may volunteer for one day or both days.
URL:https://eswp.com/event/design-lives-here-2/
LOCATION:WQED Multimedia\, 4802 5th Avenue\, Pittsburgh\, PA
GEO:40.4467131;-79.944733
X-APPLE-STRUCTURED-LOCATION;VALUE=URI;X-ADDRESS=WQED Multimedia 4802 5th Avenue Pittsburgh PA;X-APPLE-RADIUS=500;X-TITLE=4802 5th Avenue:geo:-79.944733,40.4467131
END:VEVENT
END:VCALENDAR