BEGIN:VCALENDAR
VERSION:2.0
PRODID:-//ESWP - ECPv6.15.20//NONSGML v1.0//EN
CALSCALE:GREGORIAN
METHOD:PUBLISH
X-ORIGINAL-URL:https://eswp.com
X-WR-CALDESC:Events for ESWP
REFRESH-INTERVAL;VALUE=DURATION:PT1H
X-Robots-Tag:noindex
X-PUBLISHED-TTL:PT1H
BEGIN:VTIMEZONE
TZID:America/New_York
BEGIN:DAYLIGHT
TZOFFSETFROM:-0500
TZOFFSETTO:-0400
TZNAME:EDT
DTSTART:20190310T070000
END:DAYLIGHT
BEGIN:STANDARD
TZOFFSETFROM:-0400
TZOFFSETTO:-0500
TZNAME:EST
DTSTART:20191103T060000
END:STANDARD
BEGIN:DAYLIGHT
TZOFFSETFROM:-0500
TZOFFSETTO:-0400
TZNAME:EDT
DTSTART:20200308T070000
END:DAYLIGHT
BEGIN:STANDARD
TZOFFSETFROM:-0400
TZOFFSETTO:-0500
TZNAME:EST
DTSTART:20201101T060000
END:STANDARD
BEGIN:DAYLIGHT
TZOFFSETFROM:-0500
TZOFFSETTO:-0400
TZNAME:EDT
DTSTART:20210314T070000
END:DAYLIGHT
BEGIN:STANDARD
TZOFFSETFROM:-0400
TZOFFSETTO:-0500
TZNAME:EST
DTSTART:20211107T060000
END:STANDARD
END:VTIMEZONE
BEGIN:VEVENT
DTSTART;TZID=America/New_York:20200122T113000
DTEND;TZID=America/New_York:20200122T133000
DTSTAMP:20260421T200420
CREATED:20200111T042611Z
LAST-MODIFIED:20200111T043211Z
UID:10000083-1579692600-1579699800@eswp.com
SUMMARY:ESWP Luncheon Program
DESCRIPTION:Join us for lunch and listen to Brad Heigel\, P.E.\, Chief Engineer\, Pennsylvania Turnpike Commission\nMr. Heigel will discuss the Pennsylvania turnpike’s transition to a cashless environment. \n  \n11:30 am Registration  —  12:00 noon Lunch with Presentation to follow \n  \n  \n 
URL:https://eswp.com/event/eswp-luncheon-program/
LOCATION:ESWP\, 337 Fourth Avenue\, Pittsburgh\, PA\, United States
ORGANIZER;CN="ESWP":MAILTO:eswp@eswp.com
GEO:40.4391475;-79.9999069
X-APPLE-STRUCTURED-LOCATION;VALUE=URI;X-ADDRESS=ESWP 337 Fourth Avenue Pittsburgh PA United States;X-APPLE-RADIUS=500;X-TITLE=337 Fourth Avenue:geo:-79.9999069,40.4391475
END:VEVENT
BEGIN:VEVENT
DTSTART;TZID=America/New_York:20200122T170000
DTEND;TZID=America/New_York:20200122T203000
DTSTAMP:20260421T200420
CREATED:20200113T125743Z
LAST-MODIFIED:20200113T130916Z
UID:10000084-1579712400-1579725000@eswp.com
SUMMARY:ASHE / ESWP Dinner Meeting
DESCRIPTION:A joint meeting with the American Society of Highway Engineers and the Engineers’ Society of Western Pennsylvania featuring\nAnn M. Ogoreuc\, AICP\, Allegheny County Economic Development\, Assistant Director\, Mobility and Transportation Initiatives\nand \nBrian Krul\, P.E.\, PTOE\, TranSystems\n  \nPresenting on the Allegheny County Roadway and Bicycle Assessment\n  \n5:00 PM Social Hour  —  6:00 PM Dinner  —  7:00 PM Presentation  —  Get your tickets below! \n  \n  \n  \nOops! We could not locate your form.
URL:https://eswp.com/event/ashe-eswp-dinner-meeting/
LOCATION:ESWP\, 337 Fourth Avenue\, Pittsburgh\, PA\, United States
GEO:40.4391475;-79.9999069
X-APPLE-STRUCTURED-LOCATION;VALUE=URI;X-ADDRESS=ESWP 337 Fourth Avenue Pittsburgh PA United States;X-APPLE-RADIUS=500;X-TITLE=337 Fourth Avenue:geo:-79.9999069,40.4391475
END:VEVENT
END:VCALENDAR