BEGIN:VCALENDAR
VERSION:2.0
PRODID:-//ESWP - ECPv6.15.20//NONSGML v1.0//EN
CALSCALE:GREGORIAN
METHOD:PUBLISH
X-ORIGINAL-URL:https://eswp.com
X-WR-CALDESC:Events for ESWP
REFRESH-INTERVAL;VALUE=DURATION:PT1H
X-Robots-Tag:noindex
X-PUBLISHED-TTL:PT1H
BEGIN:VTIMEZONE
TZID:America/New_York
BEGIN:DAYLIGHT
TZOFFSETFROM:-0500
TZOFFSETTO:-0400
TZNAME:EDT
DTSTART:20200308T070000
END:DAYLIGHT
BEGIN:STANDARD
TZOFFSETFROM:-0400
TZOFFSETTO:-0500
TZNAME:EST
DTSTART:20201101T060000
END:STANDARD
BEGIN:DAYLIGHT
TZOFFSETFROM:-0500
TZOFFSETTO:-0400
TZNAME:EDT
DTSTART:20210314T070000
END:DAYLIGHT
BEGIN:STANDARD
TZOFFSETFROM:-0400
TZOFFSETTO:-0500
TZNAME:EST
DTSTART:20211107T060000
END:STANDARD
BEGIN:DAYLIGHT
TZOFFSETFROM:-0500
TZOFFSETTO:-0400
TZNAME:EDT
DTSTART:20220313T070000
END:DAYLIGHT
BEGIN:STANDARD
TZOFFSETFROM:-0400
TZOFFSETTO:-0500
TZNAME:EST
DTSTART:20221106T060000
END:STANDARD
END:VTIMEZONE
BEGIN:VEVENT
DTSTART;TZID=America/New_York:20210202T080000
DTEND;TZID=America/New_York:20210202T100000
DTSTAMP:20260424T080849
CREATED:20210109T003140Z
LAST-MODIFIED:20210109T003140Z
UID:10000240-1612252800-1612260000@eswp.com
SUMMARY:SPEO Opportunities Forum
DESCRIPTION:The Virtual SPEO Opportunities Forum will be held on Tuesday\, February 2nd at 8 a.m. Representatives from local and state agencies will discuss scheduled projects and forecasted procurements with SPEO members.\nAgencies invited to present include: \n\nAllegheny County Airport Authority\nAllegheny County Sanitary Authority (ALCOSAN)\nAllegheny County Department of Economic Development\nAllegheny County Department of Public Works\nArmy Corps of Engineering\nPennsylvania American Water (PAWC)\nPennsylvania Department of Transportation (PennDOT) Dist. 11-0\nPittsburgh Water and Sewer Authority (PWSA)\nPort Authority of Allegheny County\nUrban Redevelopment Authority\n\n  \nCost: Free for SPEO Members **This is a SPEO Members Only Event** \n  \nNOTE: THERE IS LIMITED CAPACITY FOR THIS VIRTUAL EVENT. \nRegister Here:  https://www.eventbrite.com/e/speo-annual-opportunities-forum-tickets-132429661683 \nWebinar Link will be emailed the day prior to the event.
URL:https://eswp.com/event/speo-opportunities-forum/
LOCATION:Virtual Event
END:VEVENT
END:VCALENDAR