BEGIN:VCALENDAR
VERSION:2.0
PRODID:-//ESWP - ECPv6.15.20//NONSGML v1.0//EN
CALSCALE:GREGORIAN
METHOD:PUBLISH
X-WR-CALNAME:ESWP
X-ORIGINAL-URL:https://eswp.com
X-WR-CALDESC:Events for ESWP
REFRESH-INTERVAL;VALUE=DURATION:PT1H
X-Robots-Tag:noindex
X-PUBLISHED-TTL:PT1H
BEGIN:VTIMEZONE
TZID:America/New_York
BEGIN:DAYLIGHT
TZOFFSETFROM:-0500
TZOFFSETTO:-0400
TZNAME:EDT
DTSTART:20200308T070000
END:DAYLIGHT
BEGIN:STANDARD
TZOFFSETFROM:-0400
TZOFFSETTO:-0500
TZNAME:EST
DTSTART:20201101T060000
END:STANDARD
BEGIN:DAYLIGHT
TZOFFSETFROM:-0500
TZOFFSETTO:-0400
TZNAME:EDT
DTSTART:20210314T070000
END:DAYLIGHT
BEGIN:STANDARD
TZOFFSETFROM:-0400
TZOFFSETTO:-0500
TZNAME:EST
DTSTART:20211107T060000
END:STANDARD
BEGIN:DAYLIGHT
TZOFFSETFROM:-0500
TZOFFSETTO:-0400
TZNAME:EDT
DTSTART:20220313T070000
END:DAYLIGHT
BEGIN:STANDARD
TZOFFSETFROM:-0400
TZOFFSETTO:-0500
TZNAME:EST
DTSTART:20221106T060000
END:STANDARD
END:VTIMEZONE
BEGIN:VEVENT
DTSTART;TZID=America/New_York:20210401T120000
DTEND;TZID=America/New_York:20210401T123000
DTSTAMP:20260421T202356
CREATED:20210315T140528Z
LAST-MODIFIED:20210402T125315Z
UID:10000111-1617278400-1617280200@eswp.com
SUMMARY:Bridge Stories - with author Tom Leech
DESCRIPTION:BRIDGE STORIES – Every Bridge has a Story\nBy Author Tom Leech\nA fascinating glimpse of some of the world’s most interesting bridges\, built throughout the last two centuries…from Western PA to the USA to the World \nWatch the webinar discussion…
URL:https://eswp.com/event/bridge-stories-with-author-tom-leech/
LOCATION:Virtual Event
ORGANIZER;CN="ESWP":MAILTO:eswp@eswp.com
END:VEVENT
END:VCALENDAR