BEGIN:VCALENDAR
VERSION:2.0
PRODID:-//ESWP - ECPv6.15.20//NONSGML v1.0//EN
CALSCALE:GREGORIAN
METHOD:PUBLISH
X-WR-CALNAME:ESWP
X-ORIGINAL-URL:https://eswp.com
X-WR-CALDESC:Events for ESWP
REFRESH-INTERVAL;VALUE=DURATION:PT1H
X-Robots-Tag:noindex
X-PUBLISHED-TTL:PT1H
BEGIN:VTIMEZONE
TZID:America/New_York
BEGIN:DAYLIGHT
TZOFFSETFROM:-0500
TZOFFSETTO:-0400
TZNAME:EDT
DTSTART:20200308T070000
END:DAYLIGHT
BEGIN:STANDARD
TZOFFSETFROM:-0400
TZOFFSETTO:-0500
TZNAME:EST
DTSTART:20201101T060000
END:STANDARD
BEGIN:DAYLIGHT
TZOFFSETFROM:-0500
TZOFFSETTO:-0400
TZNAME:EDT
DTSTART:20210314T070000
END:DAYLIGHT
BEGIN:STANDARD
TZOFFSETFROM:-0400
TZOFFSETTO:-0500
TZNAME:EST
DTSTART:20211107T060000
END:STANDARD
BEGIN:DAYLIGHT
TZOFFSETFROM:-0500
TZOFFSETTO:-0400
TZNAME:EDT
DTSTART:20220313T070000
END:DAYLIGHT
BEGIN:STANDARD
TZOFFSETFROM:-0400
TZOFFSETTO:-0500
TZNAME:EST
DTSTART:20221106T060000
END:STANDARD
END:VTIMEZONE
BEGIN:VEVENT
DTSTART;TZID=America/New_York:20210415T120000
DTEND;TZID=America/New_York:20210415T130000
DTSTAMP:20260424T015334
CREATED:20210308T152904Z
LAST-MODIFIED:20210630T110905Z
UID:10000106-1618488000-1618491600@eswp.com
SUMMARY:IWC Webinar
DESCRIPTION:“Best of IWC”\nThe Best of IWC Webinar Series is a great way to preview the high quality technical content presented at the International Water Conference®.\n \n  \nAttendees can earn 1 pdh credit! \nWebinars are FREE to attend\, but registration is required for pdh certification. \n  \n\n  \nTopic: Monitoring  /  Power & Ash  —  Scroll Down to Register\nIWC 20-58: The Value (and the Challenges) of Corrosion Transport Monitoring  (2020 Best Overall Paper Award)\nColleen M. Scholl\, P.E.\, HDR \nMonitoring of corrosion products in power plants is an indicator of the success of the cycle chemistry program. This paper will discuss the value of instituting a formal corrosion transport monitoring program and detail the effort involved in optimization of a plant specific program. It will review methods for corrosion transport monitoring in steam generator cycles including the associated benefits and limitations. Case studies will be utilized to illustrate the process and the obtainable benefits. \nIWC 20-66: Controlling Oxidation Air in an FGD Absorber as a Means to Simplify Wastewater Treatment  (2020 First Time Presenter Award)\nAdam Sutherland\, P.E.\, Stantec; Lindy Johnson; Bill Kennedy\, Stantec \nThis paper presents experiences and benefits of a full scale installation of an oxidation air control system in a wet FGD application. Benefits include significant operational cost savings and improved wastewater treatability using chemical precipitation to aid compliance with EPA’s proposed 2019 ELGs for selenium and mercury. Liquor sulfite concentration as well as unit load and inlet SO2 are used to control the oxidation air flow rate to the absorber reaction tanks of a once through forced oxidation FGD scrubber. Impacts to the scrubber and wastewater chemistry will be described including comparisons to pre sulfite controlled operations. \n 
URL:https://eswp.com/event/iwc-webinar/
LOCATION:Virtual Event
CATEGORIES:IWC Webinar
END:VEVENT
BEGIN:VEVENT
DTSTART;TZID=America/New_York:20210415T130000
DTEND;TZID=America/New_York:20210415T133000
DTSTAMP:20260424T015334
CREATED:20210409T224007Z
LAST-MODIFIED:20210409T224007Z
UID:10000255-1618491600-1618493400@eswp.com
SUMMARY:IBC Construction Committee Meeting
DESCRIPTION:IBC Construction Committee Meeting
URL:https://eswp.com/event/ibc-construction-committee-meeting/
LOCATION:Virtual Event
CATEGORIES:ESWP Meeting
ORGANIZER;CN="ESWP":MAILTO:eswp@eswp.com
END:VEVENT
END:VCALENDAR