BEGIN:VCALENDAR
VERSION:2.0
PRODID:-//ESWP - ECPv6.15.20//NONSGML v1.0//EN
CALSCALE:GREGORIAN
METHOD:PUBLISH
X-ORIGINAL-URL:https://eswp.com
X-WR-CALDESC:Events for ESWP
REFRESH-INTERVAL;VALUE=DURATION:PT1H
X-Robots-Tag:noindex
X-PUBLISHED-TTL:PT1H
BEGIN:VTIMEZONE
TZID:America/New_York
BEGIN:DAYLIGHT
TZOFFSETFROM:-0500
TZOFFSETTO:-0400
TZNAME:EDT
DTSTART:20200308T070000
END:DAYLIGHT
BEGIN:STANDARD
TZOFFSETFROM:-0400
TZOFFSETTO:-0500
TZNAME:EST
DTSTART:20201101T060000
END:STANDARD
BEGIN:DAYLIGHT
TZOFFSETFROM:-0500
TZOFFSETTO:-0400
TZNAME:EDT
DTSTART:20210314T070000
END:DAYLIGHT
BEGIN:STANDARD
TZOFFSETFROM:-0400
TZOFFSETTO:-0500
TZNAME:EST
DTSTART:20211107T060000
END:STANDARD
BEGIN:DAYLIGHT
TZOFFSETFROM:-0500
TZOFFSETTO:-0400
TZNAME:EDT
DTSTART:20220313T070000
END:DAYLIGHT
BEGIN:STANDARD
TZOFFSETFROM:-0400
TZOFFSETTO:-0500
TZNAME:EST
DTSTART:20221106T060000
END:STANDARD
END:VTIMEZONE
BEGIN:VEVENT
DTSTART;TZID=America/New_York:20211207T080000
DTEND;TZID=America/New_York:20211207T093000
DTSTAMP:20260421T172559
CREATED:20211123T182127Z
LAST-MODIFIED:20211123T182127Z
UID:10000291-1638864000-1638869400@eswp.com
SUMMARY:SPEO Holiday Breakfast
DESCRIPTION:Please join us for our annual holiday breakfast meeting. This event will provide an opportunity for our Mentor\, Protégé\, and Associate members to network with others and celebrate the season!\nThis event is open to all current SPEO Members\, but due to capacity limitations\, attendance is limited to 2 attendees per member company and will be capped at 55 attendees so please REGISTER EARLY! \nNote: This meeting will take the place of the traditional monthly meeting held on the 3rd Tuesday. \n  \nIn the spirit of the season\, we will also be collecting donations for the Greater Pittsburgh Community Food Bank online and at the event to help those who may be experiencing food insecurity. Donations can be made online or brought to the breakfast. To donate by credit card online\, visit: https://secure.qgiv.com/event/speovfd/. If writing a check\, please make payable to “Greater Pittsburgh Community Food Bank” and bring to the event. For every $1 donated\, the Food Bank can provide up to 5 meals for the children\, families and seniors they serve across Southwestern PA.
URL:https://eswp.com/event/speo-holiday-breakfast/
LOCATION:ESWP\, 337 Fourth Avenue\, Pittsburgh\, PA\, United States
GEO:40.4391475;-79.9999069
X-APPLE-STRUCTURED-LOCATION;VALUE=URI;X-ADDRESS=ESWP 337 Fourth Avenue Pittsburgh PA United States;X-APPLE-RADIUS=500;X-TITLE=337 Fourth Avenue:geo:-79.9999069,40.4391475
END:VEVENT
END:VCALENDAR