BEGIN:VCALENDAR
VERSION:2.0
PRODID:-//ESWP - ECPv6.15.20//NONSGML v1.0//EN
CALSCALE:GREGORIAN
METHOD:PUBLISH
X-WR-CALNAME:ESWP
X-ORIGINAL-URL:https://eswp.com
X-WR-CALDESC:Events for ESWP
REFRESH-INTERVAL;VALUE=DURATION:PT1H
X-Robots-Tag:noindex
X-PUBLISHED-TTL:PT1H
BEGIN:VTIMEZONE
TZID:America/New_York
BEGIN:DAYLIGHT
TZOFFSETFROM:-0500
TZOFFSETTO:-0400
TZNAME:EDT
DTSTART:20240310T070000
END:DAYLIGHT
BEGIN:STANDARD
TZOFFSETFROM:-0400
TZOFFSETTO:-0500
TZNAME:EST
DTSTART:20241103T060000
END:STANDARD
BEGIN:DAYLIGHT
TZOFFSETFROM:-0500
TZOFFSETTO:-0400
TZNAME:EDT
DTSTART:20250309T070000
END:DAYLIGHT
BEGIN:STANDARD
TZOFFSETFROM:-0400
TZOFFSETTO:-0500
TZNAME:EST
DTSTART:20251102T060000
END:STANDARD
BEGIN:DAYLIGHT
TZOFFSETFROM:-0500
TZOFFSETTO:-0400
TZNAME:EDT
DTSTART:20260308T070000
END:DAYLIGHT
BEGIN:STANDARD
TZOFFSETFROM:-0400
TZOFFSETTO:-0500
TZNAME:EST
DTSTART:20261101T060000
END:STANDARD
END:VTIMEZONE
BEGIN:VEVENT
DTSTART;TZID=America/New_York:20251208T113000
DTEND;TZID=America/New_York:20251208T133000
DTSTAMP:20260420T103840
CREATED:20251106T142209Z
LAST-MODIFIED:20251208T171846Z
UID:10000395-1765193400-1765200600@eswp.com
SUMMARY:ESWP Members Holiday Buffet
DESCRIPTION: 
URL:https://eswp.com/event/holidaybuffet2025/
LOCATION:ESWP\, 337 Fourth Avenue\, Pittsburgh\, PA\, United States
CATEGORIES:ESWP Co-Sponsored Event,ESWP Conference,ESWP Meeting,ESWP News,ESWP Program Committee,Technical Society Meetings
ATTACH;FMTTYPE=image/jpeg:https://eswp.com/wp-content/uploads/2015/04/ESWP-Logo-72-BW.jpg
ORGANIZER;CN="ESWP":MAILTO:eswp@eswp.com
GEO:40.4391475;-79.9999069
X-APPLE-STRUCTURED-LOCATION;VALUE=URI;X-ADDRESS=ESWP 337 Fourth Avenue Pittsburgh PA United States;X-APPLE-RADIUS=500;X-TITLE=337 Fourth Avenue:geo:-79.9999069,40.4391475
END:VEVENT
BEGIN:VEVENT
DTSTART;TZID=America/New_York:20251217T120000
DTEND;TZID=America/New_York:20251217T130000
DTSTAMP:20260420T103840
CREATED:20251201T230952Z
LAST-MODIFIED:20251201T230952Z
UID:10000402-1765972800-1765976400@eswp.com
SUMMARY:'Best of' IBC Webinar Series
DESCRIPTION:The Best of IBC Webinar Series is a great way to preview the high-quality technical content presented at the International Bridge Conference®.\n  \n \nAttendees can earn 1 pdh credit \nVirtual webinars are FREE to attend\, but registration is required for pdh certification. \nTopic: Bridge Demolition \nClick here for more details and to register! \n 
URL:https://eswp.com/event/best-of-ibc-webinar-series-3/
LOCATION:Webinar
CATEGORIES:ESWP Conference,ESWP News,IBC Webinar
ATTACH;FMTTYPE=image/jpeg:https://eswp.com/wp-content/uploads/IBC-LOGO300x300.jpg
END:VEVENT
END:VCALENDAR