BEGIN:VCALENDAR
VERSION:2.0
PRODID:-//ESWP - ECPv6.15.20//NONSGML v1.0//EN
CALSCALE:GREGORIAN
METHOD:PUBLISH
X-ORIGINAL-URL:https://eswp.com
X-WR-CALDESC:Events for ESWP
REFRESH-INTERVAL;VALUE=DURATION:PT1H
X-Robots-Tag:noindex
X-PUBLISHED-TTL:PT1H
BEGIN:VTIMEZONE
TZID:America/New_York
BEGIN:DAYLIGHT
TZOFFSETFROM:-0500
TZOFFSETTO:-0400
TZNAME:EDT
DTSTART:20150308T070000
END:DAYLIGHT
BEGIN:STANDARD
TZOFFSETFROM:-0400
TZOFFSETTO:-0500
TZNAME:EST
DTSTART:20151101T060000
END:STANDARD
BEGIN:DAYLIGHT
TZOFFSETFROM:-0500
TZOFFSETTO:-0400
TZNAME:EDT
DTSTART:20160313T070000
END:DAYLIGHT
BEGIN:STANDARD
TZOFFSETFROM:-0400
TZOFFSETTO:-0500
TZNAME:EST
DTSTART:20161106T060000
END:STANDARD
BEGIN:DAYLIGHT
TZOFFSETFROM:-0500
TZOFFSETTO:-0400
TZNAME:EDT
DTSTART:20170312T070000
END:DAYLIGHT
BEGIN:STANDARD
TZOFFSETFROM:-0400
TZOFFSETTO:-0500
TZNAME:EST
DTSTART:20171105T060000
END:STANDARD
END:VTIMEZONE
BEGIN:VEVENT
DTSTART;TZID=America/New_York:20160505T073000
DTEND;TZID=America/New_York:20160505T100000
DTSTAMP:20260424T080640
CREATED:20160329T185252Z
LAST-MODIFIED:20160411T223236Z
UID:10000013-1462433400-1462442400@eswp.com
SUMMARY:ALMONO Luncheon with Don Smith of RIDC
DESCRIPTION:Don Smith from RIDC will present on the development plans for ALMONO \n11:30 arrival & networking \n12:00 Noon Lunch\, followed by presentation \nCost $20.00 for members; $30.00 for non-members; $15 for Government employees \n  \nPlease enter attendee names in ‘Notes’ field on checkout page.
URL:https://eswp.com/event/almono-luncheon-with-don-smith-of-ridc/
LOCATION:ESWP\, 337 Fourth Avenue\, Pittsburgh\, PA\, United States
ORGANIZER;CN="ESWP":MAILTO:eswp@eswp.com
GEO:40.4391475;-79.9999069
X-APPLE-STRUCTURED-LOCATION;VALUE=URI;X-ADDRESS=ESWP 337 Fourth Avenue Pittsburgh PA United States;X-APPLE-RADIUS=500;X-TITLE=337 Fourth Avenue:geo:-79.9999069,40.4391475
END:VEVENT
BEGIN:VEVENT
DTSTART;TZID=America/New_York:20160511T073000
DTEND;TZID=America/New_York:20160511T100000
DTSTAMP:20260424T080640
CREATED:20160329T185352Z
LAST-MODIFIED:20160412T182940Z
UID:10000005-1462951800-1462960800@eswp.com
SUMMARY:Luncheon with PA Turnpike CEO Mark Compton
DESCRIPTION:11:30 arrival & networking \n12:00 Noon Lunch\, followed by presentation \nCost $25.00 for members; $35.00 for non-members; $15 for Government employees \n  \nPlease enter attendee names in ‘Notes’ field on checkout page. \n 
URL:https://eswp.com/event/luncheon-with-pa-turnpike-chairman-sean-logan/
LOCATION:ESWP\, 337 Fourth Avenue\, Pittsburgh\, PA\, United States
ORGANIZER;CN="ESWP":MAILTO:eswp@eswp.com
GEO:40.4391475;-79.9999069
X-APPLE-STRUCTURED-LOCATION;VALUE=URI;X-ADDRESS=ESWP 337 Fourth Avenue Pittsburgh PA United States;X-APPLE-RADIUS=500;X-TITLE=337 Fourth Avenue:geo:-79.9999069,40.4391475
END:VEVENT
BEGIN:VEVENT
DTSTART;TZID=America/New_York:20160526T073000
DTEND;TZID=America/New_York:20160526T100000
DTSTAMP:20260424T080640
CREATED:20160329T185540Z
LAST-MODIFIED:20160516T040506Z
UID:10000059-1464247800-1464256800@eswp.com
SUMMARY:Women's Roundtable Luncheon with Christy Uffelman
DESCRIPTION:Moderated by Amy Veltri\, President of NGE \n11:30 arrival & networking \n12:00 Noon Lunch\, followed by presentation \nCost $20.00 for members; $30.00 for non-members; $15 for Government employees \n  \nPlease enter attendee names in ‘Notes’ field on checkout page.
URL:https://eswp.com/event/eswps-womens-rountable-luncheon/
LOCATION:ESWP\, 337 Fourth Avenue\, Pittsburgh\, PA\, United States
ORGANIZER;CN="ESWP":MAILTO:eswp@eswp.com
GEO:40.4391475;-79.9999069
X-APPLE-STRUCTURED-LOCATION;VALUE=URI;X-ADDRESS=ESWP 337 Fourth Avenue Pittsburgh PA United States;X-APPLE-RADIUS=500;X-TITLE=337 Fourth Avenue:geo:-79.9999069,40.4391475
END:VEVENT
END:VCALENDAR