BEGIN:VCALENDAR
VERSION:2.0
PRODID:-//ESWP - ECPv6.15.20//NONSGML v1.0//EN
CALSCALE:GREGORIAN
METHOD:PUBLISH
X-ORIGINAL-URL:https://eswp.com
X-WR-CALDESC:Events for ESWP
REFRESH-INTERVAL;VALUE=DURATION:PT1H
X-Robots-Tag:noindex
X-PUBLISHED-TTL:PT1H
BEGIN:VTIMEZONE
TZID:America/New_York
BEGIN:DAYLIGHT
TZOFFSETFROM:-0500
TZOFFSETTO:-0400
TZNAME:EDT
DTSTART:20160313T070000
END:DAYLIGHT
BEGIN:STANDARD
TZOFFSETFROM:-0400
TZOFFSETTO:-0500
TZNAME:EST
DTSTART:20161106T060000
END:STANDARD
BEGIN:DAYLIGHT
TZOFFSETFROM:-0500
TZOFFSETTO:-0400
TZNAME:EDT
DTSTART:20170312T070000
END:DAYLIGHT
BEGIN:STANDARD
TZOFFSETFROM:-0400
TZOFFSETTO:-0500
TZNAME:EST
DTSTART:20171105T060000
END:STANDARD
BEGIN:DAYLIGHT
TZOFFSETFROM:-0500
TZOFFSETTO:-0400
TZNAME:EDT
DTSTART:20180311T070000
END:DAYLIGHT
BEGIN:STANDARD
TZOFFSETFROM:-0400
TZOFFSETTO:-0500
TZNAME:EST
DTSTART:20181104T060000
END:STANDARD
END:VTIMEZONE
BEGIN:VEVENT
DTSTART;TZID=America/New_York:20171220T063000
DTEND;TZID=America/New_York:20171220T083000
DTSTAMP:20260425T211338
CREATED:20171025T213524Z
LAST-MODIFIED:20171218T180256Z
UID:10000032-1513751400-1513758600@eswp.com
SUMMARY:ESWP Member's Holiday Luncheon
DESCRIPTION:The ESWP Holiday Luncheon is a tradition that members look forward to all year long.\nThis is a great chance to bring clients\, associates\, support staff\, friends and family to your ESWP. Enjoy great food\, live entertainment and camaraderie… mingle with old friends and make new ones. \n  \nPlease consider making a donation to our “Chinese Auction” prize table. It’s new this year\, and done in the spirit of giving…all donations from tickets sold at the auction will be given to our local food bank to help those who may need some assistance to enjoy their holidays. Suggested donations for our Chinese Auction include gift cards\, sporting event tickets\, or sports memorabilia.  Please email us at d.teorsky@eswp.com or contact the ESWP at 412-261-0710\, ext. 10 with any questions\, concerns\, or to make a contribution. \n  \n  \n  \nSome of the prizes donated…..\n$100 Walmart Gift Card\, courtesy of Novel Geo-Environmental\, LLC (NGE) \n4 Tickets to Pitt/Miami basketball game (Dec. 30)\, courtesy of Civil & Environmental Consultants\, Inc. \n$50 Gift Certificate to Dick’s Sporting Goods\, courtesy of Michael Baker International \nSouthern Tier Gift Baskets\, courtesy of Southern Tier Brewing Company \nBed and Breakfast Package\, courtesy of Omni William Penn Hotel \nPittsburgh Penguins Gift Baskets\, courtesy of Frank B. Fuhrer Wholesale \n$50 Home Depot Gift Card and a Nicholson Lego Drill Rig\, Courtesy of Nicholson Construction \n$50 Amazon Gift Card\, courtesy of Menard Group USA \n  \nThe buffet menu….\nJerk Chicken with Plantains and Pineapple \nSalmon with Lobster Cream Sauce \nGreen Beans with Cranberries\, Candied Walnuts and Goat Cheese \nScalloped Potatoes \nStuffed Cabbages \nRice Pilaf \nRigatoni with Sausage\, Bacon & Tomato Basil Cream Sauce \nCarving Station with Roast Beef and Turkey \n  \nReservations are required and can be made below. \nRegular Dining Room Service not available on this date
URL:https://eswp.com/event/eswp-members-holiday-luncheon-3/
LOCATION:ESWP\, 337 Fourth Avenue\, Pittsburgh\, PA\, United States
GEO:40.4391475;-79.9999069
X-APPLE-STRUCTURED-LOCATION;VALUE=URI;X-ADDRESS=ESWP 337 Fourth Avenue Pittsburgh PA United States;X-APPLE-RADIUS=500;X-TITLE=337 Fourth Avenue:geo:-79.9999069,40.4391475
END:VEVENT
END:VCALENDAR