BEGIN:VCALENDAR
VERSION:2.0
PRODID:-//ESWP - ECPv6.15.20//NONSGML v1.0//EN
CALSCALE:GREGORIAN
METHOD:PUBLISH
X-ORIGINAL-URL:https://eswp.com
X-WR-CALDESC:Events for ESWP
REFRESH-INTERVAL;VALUE=DURATION:PT1H
X-Robots-Tag:noindex
X-PUBLISHED-TTL:PT1H
BEGIN:VTIMEZONE
TZID:America/New_York
BEGIN:DAYLIGHT
TZOFFSETFROM:-0500
TZOFFSETTO:-0400
TZNAME:EDT
DTSTART:20180311T070000
END:DAYLIGHT
BEGIN:STANDARD
TZOFFSETFROM:-0400
TZOFFSETTO:-0500
TZNAME:EST
DTSTART:20181104T060000
END:STANDARD
BEGIN:DAYLIGHT
TZOFFSETFROM:-0500
TZOFFSETTO:-0400
TZNAME:EDT
DTSTART:20190310T070000
END:DAYLIGHT
BEGIN:STANDARD
TZOFFSETFROM:-0400
TZOFFSETTO:-0500
TZNAME:EST
DTSTART:20191103T060000
END:STANDARD
BEGIN:DAYLIGHT
TZOFFSETFROM:-0500
TZOFFSETTO:-0400
TZNAME:EDT
DTSTART:20200308T070000
END:DAYLIGHT
BEGIN:STANDARD
TZOFFSETFROM:-0400
TZOFFSETTO:-0500
TZNAME:EST
DTSTART:20201101T060000
END:STANDARD
END:VTIMEZONE
BEGIN:VEVENT
DTSTART;TZID=America/New_York:20190503T170000
DTEND;TZID=America/New_York:20190503T190000
DTSTAMP:20260423T183708
CREATED:20190110T183928Z
LAST-MODIFIED:20190313T170859Z
UID:10000068-1556902800-1556910000@eswp.com
SUMMARY:Younger Member Joint Social
DESCRIPTION:Come hang out with other young professionals from the Pittsburgh area and hear what the various organizations are all about! \nClick on picture for pdf version\n 
URL:https://eswp.com/event/annual-younger-members-joint-social/
LOCATION:Mario’s East Side Saloon\, 5542 Walnut Street\, Pittsburgh\, PA\, 15232\, United States
GEO:40.451494;-79.9323211
X-APPLE-STRUCTURED-LOCATION;VALUE=URI;X-ADDRESS=Mario’s East Side Saloon 5542 Walnut Street Pittsburgh PA 15232 United States;X-APPLE-RADIUS=500;X-TITLE=5542 Walnut Street:geo:-79.9323211,40.451494
END:VEVENT
BEGIN:VEVENT
DTSTART;TZID=America/New_York:20190514T170000
DTEND;TZID=America/New_York:20190514T210000
DTSTAMP:20260423T183708
CREATED:20190419T201939Z
LAST-MODIFIED:20190419T201939Z
UID:10000221-1557853200-1557867600@eswp.com
SUMMARY:SAME 2019 Annual Banquet
DESCRIPTION:We are pleased to announce that Major General William H. Graham\, Jr.\, Deputy Commanding General of U.S. Army I Corps\, will join us for the evening.  Come hear his unique perspectives on critical civilian partnerships for infrastructure security and resilience.  MG Graham is a native Pittsburgher\, Pitt Alumnus\, and Past Commander of the Pittsburgh District Corps of Engineers. \nRegister Today to join us for an evening of awards\, networking and a presentation you won’t want to miss! (Deadline to register\, May 9) \nEVENT DETAILS \n5:00 PM – Registration\, Networking and Cash Bar\n6:15 PM – Awards – Professional of the Year\, Outstanding Project of the Year\, Young Professional of the Year\n6:30 PM – Dinner\n7:30 PM – Program\n8:45 PM – Closing \n***Note: This event is limited to 100 guests \n  \nFor additional information and sponsorship opportunities\, please CLICK HERE. \n 
URL:https://eswp.com/event/same-2019-annual-banquet/
LOCATION:Soldiers and Sailors Memorial Hall\, 4141 Fifth Avenue\, Pittsburgh\, PA\, 15213\, United States
GEO:40.4450333;-79.9564216
X-APPLE-STRUCTURED-LOCATION;VALUE=URI;X-ADDRESS=Soldiers and Sailors Memorial Hall 4141 Fifth Avenue Pittsburgh PA 15213 United States;X-APPLE-RADIUS=500;X-TITLE=4141 Fifth Avenue:geo:-79.9564216,40.4450333
END:VEVENT
BEGIN:VEVENT
DTSTART;TZID=America/New_York:20190516T180000
DTEND;TZID=America/New_York:20190516T203000
DTSTAMP:20260423T183708
CREATED:20190422T140338Z
LAST-MODIFIED:20190422T140338Z
UID:10000222-1558029600-1558038600@eswp.com
SUMMARY:PSPE Dinner Meeting
DESCRIPTION:PSPE Dinner Meeting\nPresentation on the I-579 CAP Project—Connecting Downtown to the Lower Hill\nRecognition of Apprenticeship Sponsors and\nRecognition of Past Presidents and Induction of 2019-2020 Chapter Officers\n  \nREGISTER HERE \n  \nPDF version
URL:https://eswp.com/event/pspe-dinner-meeting-3/
LOCATION:ESWP\, 337 Fourth Avenue\, Pittsburgh\, PA\, United States
GEO:40.4391475;-79.9999069
X-APPLE-STRUCTURED-LOCATION;VALUE=URI;X-ADDRESS=ESWP 337 Fourth Avenue Pittsburgh PA United States;X-APPLE-RADIUS=500;X-TITLE=337 Fourth Avenue:geo:-79.9999069,40.4391475
END:VEVENT
END:VCALENDAR