BEGIN:VCALENDAR
VERSION:2.0
PRODID:-//ESWP - ECPv6.15.20//NONSGML v1.0//EN
CALSCALE:GREGORIAN
METHOD:PUBLISH
X-ORIGINAL-URL:https://eswp.com
X-WR-CALDESC:Events for ESWP
REFRESH-INTERVAL;VALUE=DURATION:PT1H
X-Robots-Tag:noindex
X-PUBLISHED-TTL:PT1H
BEGIN:VTIMEZONE
TZID:America/New_York
BEGIN:DAYLIGHT
TZOFFSETFROM:-0500
TZOFFSETTO:-0400
TZNAME:EDT
DTSTART:20240310T070000
END:DAYLIGHT
BEGIN:STANDARD
TZOFFSETFROM:-0400
TZOFFSETTO:-0500
TZNAME:EST
DTSTART:20241103T060000
END:STANDARD
BEGIN:DAYLIGHT
TZOFFSETFROM:-0500
TZOFFSETTO:-0400
TZNAME:EDT
DTSTART:20250309T070000
END:DAYLIGHT
BEGIN:STANDARD
TZOFFSETFROM:-0400
TZOFFSETTO:-0500
TZNAME:EST
DTSTART:20251102T060000
END:STANDARD
BEGIN:DAYLIGHT
TZOFFSETFROM:-0500
TZOFFSETTO:-0400
TZNAME:EDT
DTSTART:20260308T070000
END:DAYLIGHT
BEGIN:STANDARD
TZOFFSETFROM:-0400
TZOFFSETTO:-0500
TZNAME:EST
DTSTART:20261101T060000
END:STANDARD
END:VTIMEZONE
BEGIN:VEVENT
DTSTART;TZID=America/New_York:20250405T090000
DTEND;TZID=America/New_York:20250405T150000
DTSTAMP:20260423T050235
CREATED:20250312T122843Z
LAST-MODIFIED:20250422T181352Z
UID:10000369-1743843600-1743865200@eswp.com
SUMMARY:SWE Pittsburgh
DESCRIPTION:Join us for our Professional Development Day! \n  \nClick on the logo for details and to register
URL:https://eswp.com/event/swe-pittsburgh/
LOCATION:ESWP\, 337 Fourth Avenue\, Pittsburgh\, PA\, United States
CATEGORIES:ESWP News,Technical Society Meetings
GEO:40.4391475;-79.9999069
X-APPLE-STRUCTURED-LOCATION;VALUE=URI;X-ADDRESS=ESWP 337 Fourth Avenue Pittsburgh PA United States;X-APPLE-RADIUS=500;X-TITLE=337 Fourth Avenue:geo:-79.9999069,40.4391475
END:VEVENT
BEGIN:VEVENT
DTSTART;TZID=America/New_York:20250408T170000
DTEND;TZID=America/New_York:20250408T203000
DTSTAMP:20260423T050235
CREATED:20241219T115823Z
LAST-MODIFIED:20250422T181331Z
UID:10000368-1744131600-1744144200@eswp.com
SUMMARY:SAME 2025 Annual Banquet
DESCRIPTION:SAVE THE DATE!
URL:https://eswp.com/event/same-2025-annual-banquet/
LOCATION:LeMont Pittsburgh\, 1114 Grandview Avenue\, Pittsburgh\, PA\, 15211\, United States
CATEGORIES:Technical Society Meetings
GEO:40.4377717;-80.0178099
X-APPLE-STRUCTURED-LOCATION;VALUE=URI;X-ADDRESS=LeMont Pittsburgh 1114 Grandview Avenue Pittsburgh PA 15211 United States;X-APPLE-RADIUS=500;X-TITLE=1114 Grandview Avenue:geo:-80.0178099,40.4377717
END:VEVENT
BEGIN:VEVENT
DTSTART;TZID=America/New_York:20250428T120000
DTEND;TZID=America/New_York:20250428T140000
DTSTAMP:20260423T050235
CREATED:20250312T123513Z
LAST-MODIFIED:20250423T225324Z
UID:10000367-1745841600-1745848800@eswp.com
SUMMARY:ESWP Board of Directors Meeting
DESCRIPTION:
URL:https://eswp.com/event/eswp-board-of-directors/
LOCATION:ESWP\, 337 Fourth Avenue\, Pittsburgh\, PA\, United States
CATEGORIES:ESWP Meeting,ESWP News
ATTACH;FMTTYPE=image/jpeg:https://eswp.com/wp-content/uploads/2015/04/ESWP-Logo-72-BW.jpg
ORGANIZER;CN="ESWP":MAILTO:eswp@eswp.com
GEO:40.4391475;-79.9999069
X-APPLE-STRUCTURED-LOCATION;VALUE=URI;X-ADDRESS=ESWP 337 Fourth Avenue Pittsburgh PA United States;X-APPLE-RADIUS=500;X-TITLE=337 Fourth Avenue:geo:-79.9999069,40.4391475
END:VEVENT
BEGIN:VEVENT
DTSTART;TZID=America/New_York:20250428T163000
DTEND;TZID=America/New_York:20250428T180000
DTSTAMP:20260423T050235
CREATED:20250312T123714Z
LAST-MODIFIED:20250423T225420Z
UID:10000366-1745857800-1745863200@eswp.com
SUMMARY:IBC Executive Committee
DESCRIPTION:
URL:https://eswp.com/event/ibc-executive-committee-2/
LOCATION:Virtual Event
CATEGORIES:ESWP Conference
ATTACH;FMTTYPE=image/png:https://eswp.com/wp-content/uploads/ibc-1.png
END:VEVENT
BEGIN:VEVENT
DTSTART;TZID=America/New_York:20250430T080000
DTEND;TZID=America/New_York:20250430T163000
DTSTAMP:20260423T050235
CREATED:20250224T180354Z
LAST-MODIFIED:20250423T224010Z
UID:10000365-1746000000-1746030600@eswp.com
SUMMARY:Tax Executives Institute
DESCRIPTION:  \nFor more information and to register!\n 
URL:https://eswp.com/event/tax-executives-institute-2/
LOCATION:ESWP\, 337 Fourth Avenue\, Pittsburgh\, PA\, United States
CATEGORIES:Technical Society Meetings
ATTACH;FMTTYPE=image/png:https://eswp.com/wp-content/uploads/Pittsburgh.png
GEO:40.4391475;-79.9999069
X-APPLE-STRUCTURED-LOCATION;VALUE=URI;X-ADDRESS=ESWP 337 Fourth Avenue Pittsburgh PA United States;X-APPLE-RADIUS=500;X-TITLE=337 Fourth Avenue:geo:-79.9999069,40.4391475
END:VEVENT
BEGIN:VEVENT
DTSTART;TZID=America/New_York:20250430T130000
DTEND;TZID=America/New_York:20250430T170000
DTSTAMP:20260423T050235
CREATED:20250330T235811Z
LAST-MODIFIED:20250425T004847Z
UID:10000364-1746018000-1746032400@eswp.com
SUMMARY:IWC Executive Committee Meeting
DESCRIPTION:
URL:https://eswp.com/event/iwc-executive-committee-meeting/
LOCATION:ESWP\, 337 Fourth Avenue\, Pittsburgh\, PA\, United States
CATEGORIES:ESWP Conference
GEO:40.4391475;-79.9999069
X-APPLE-STRUCTURED-LOCATION;VALUE=URI;X-ADDRESS=ESWP 337 Fourth Avenue Pittsburgh PA United States;X-APPLE-RADIUS=500;X-TITLE=337 Fourth Avenue:geo:-79.9999069,40.4391475
END:VEVENT
END:VCALENDAR