BEGIN:VCALENDAR
VERSION:2.0
PRODID:-//ESWP - ECPv6.15.20//NONSGML v1.0//EN
CALSCALE:GREGORIAN
METHOD:PUBLISH
X-WR-CALNAME:ESWP
X-ORIGINAL-URL:https://eswp.com
X-WR-CALDESC:Events for ESWP
REFRESH-INTERVAL;VALUE=DURATION:PT1H
X-Robots-Tag:noindex
X-PUBLISHED-TTL:PT1H
BEGIN:VTIMEZONE
TZID:America/New_York
BEGIN:DAYLIGHT
TZOFFSETFROM:-0500
TZOFFSETTO:-0400
TZNAME:EDT
DTSTART:20200308T070000
END:DAYLIGHT
BEGIN:STANDARD
TZOFFSETFROM:-0400
TZOFFSETTO:-0500
TZNAME:EST
DTSTART:20201101T060000
END:STANDARD
BEGIN:DAYLIGHT
TZOFFSETFROM:-0500
TZOFFSETTO:-0400
TZNAME:EDT
DTSTART:20210314T070000
END:DAYLIGHT
BEGIN:STANDARD
TZOFFSETFROM:-0400
TZOFFSETTO:-0500
TZNAME:EST
DTSTART:20211107T060000
END:STANDARD
BEGIN:DAYLIGHT
TZOFFSETFROM:-0500
TZOFFSETTO:-0400
TZNAME:EDT
DTSTART:20220313T070000
END:DAYLIGHT
BEGIN:STANDARD
TZOFFSETFROM:-0400
TZOFFSETTO:-0500
TZNAME:EST
DTSTART:20221106T060000
END:STANDARD
END:VTIMEZONE
BEGIN:VEVENT
DTSTART;TZID=America/New_York:20210224T120000
DTEND;TZID=America/New_York:20210224T133000
DTSTAMP:20260423T183646
CREATED:20210212T225251Z
LAST-MODIFIED:20210212T225251Z
UID:10000244-1614168000-1614173400@eswp.com
SUMMARY:The Pittsburgh ISA Section Presents....
DESCRIPTION:Introduction to the Advanced Robotics for Manufacturing Institute\nSpeaker:  Matt Rosenberger – Membership Director\, ARM Institute \nWhere:  Virtual Event  –  Zoom Link \nCost:  Free \nRSVP:  Please RSVP to PittsburghISA@gmail.com
URL:https://eswp.com/event/the-pittsburgh-isa-section-presents/
LOCATION:Virtual Event
END:VEVENT
END:VCALENDAR