BEGIN:VCALENDAR
VERSION:2.0
PRODID:-//ESWP - ECPv6.15.20//NONSGML v1.0//EN
CALSCALE:GREGORIAN
METHOD:PUBLISH
X-ORIGINAL-URL:https://eswp.com
X-WR-CALDESC:Events for ESWP
REFRESH-INTERVAL;VALUE=DURATION:PT1H
X-Robots-Tag:noindex
X-PUBLISHED-TTL:PT1H
BEGIN:VTIMEZONE
TZID:America/New_York
BEGIN:DAYLIGHT
TZOFFSETFROM:-0500
TZOFFSETTO:-0400
TZNAME:EDT
DTSTART:20160313T070000
END:DAYLIGHT
BEGIN:STANDARD
TZOFFSETFROM:-0400
TZOFFSETTO:-0500
TZNAME:EST
DTSTART:20161106T060000
END:STANDARD
BEGIN:DAYLIGHT
TZOFFSETFROM:-0500
TZOFFSETTO:-0400
TZNAME:EDT
DTSTART:20170312T070000
END:DAYLIGHT
BEGIN:STANDARD
TZOFFSETFROM:-0400
TZOFFSETTO:-0500
TZNAME:EST
DTSTART:20171105T060000
END:STANDARD
BEGIN:DAYLIGHT
TZOFFSETFROM:-0500
TZOFFSETTO:-0400
TZNAME:EDT
DTSTART:20180311T070000
END:DAYLIGHT
BEGIN:STANDARD
TZOFFSETFROM:-0400
TZOFFSETTO:-0500
TZNAME:EST
DTSTART:20181104T060000
END:STANDARD
END:VTIMEZONE
BEGIN:VEVENT
DTSTART;TZID=America/New_York:20170216T120000
DTEND;TZID=America/New_York:20170216T140000
DTSTAMP:20260421T015126
CREATED:20170131T204935Z
LAST-MODIFIED:20170131T204935Z
UID:10000105-1487246400-1487253600@eswp.com
SUMMARY:Building a Resilient\, Smart and Sustainable City: The Energy-Water Nexus
DESCRIPTION:Energy and water are the world’s two most critical resources\, yet their vital interconnections and vulnerabilities are less often recognized. Smart\, resilient cities are tackling these connection points head on – metropolitan areas like Pittsburgh\, known as the “city of three rivers.” Always a center for groundbreaking ideas – from the earliest days as the center for industry to the recently launched p4 Initiative and upcoming Climate Action Plan 3.0\, Pittsburgh leads the country as a thriving hub of innovation\, technology\, education\, environmental stewardship\, and sustainability. \nFor more information and to register\, click here
URL:https://eswp.com/event/building-a-resilient-smart-and-sustainable-city-the-energy-water-nexus/
LOCATION:Carnegie Mellon University\, McConomy Auditorium\, Cohon University Center\, 5000 Forbes Avenue\, Pittsburgh\, PA\, 15213\, United States
GEO:40.4434014;-79.9465049
X-APPLE-STRUCTURED-LOCATION;VALUE=URI;X-ADDRESS=Carnegie Mellon University McConomy Auditorium Cohon University Center 5000 Forbes Avenue Pittsburgh PA 15213 United States;X-APPLE-RADIUS=500;X-TITLE=5000 Forbes Avenue:geo:-79.9465049,40.4434014
END:VEVENT
END:VCALENDAR