BEGIN:VCALENDAR
VERSION:2.0
PRODID:-//ESWP - ECPv6.15.20//NONSGML v1.0//EN
CALSCALE:GREGORIAN
METHOD:PUBLISH
X-WR-CALNAME:ESWP
X-ORIGINAL-URL:https://eswp.com
X-WR-CALDESC:Events for ESWP
REFRESH-INTERVAL;VALUE=DURATION:PT1H
X-Robots-Tag:noindex
X-PUBLISHED-TTL:PT1H
BEGIN:VTIMEZONE
TZID:America/New_York
BEGIN:DAYLIGHT
TZOFFSETFROM:-0500
TZOFFSETTO:-0400
TZNAME:EDT
DTSTART:20150308T070000
END:DAYLIGHT
BEGIN:STANDARD
TZOFFSETFROM:-0400
TZOFFSETTO:-0500
TZNAME:EST
DTSTART:20151101T060000
END:STANDARD
BEGIN:DAYLIGHT
TZOFFSETFROM:-0500
TZOFFSETTO:-0400
TZNAME:EDT
DTSTART:20160313T070000
END:DAYLIGHT
BEGIN:STANDARD
TZOFFSETFROM:-0400
TZOFFSETTO:-0500
TZNAME:EST
DTSTART:20161106T060000
END:STANDARD
BEGIN:DAYLIGHT
TZOFFSETFROM:-0500
TZOFFSETTO:-0400
TZNAME:EDT
DTSTART:20170312T070000
END:DAYLIGHT
BEGIN:STANDARD
TZOFFSETFROM:-0400
TZOFFSETTO:-0500
TZNAME:EST
DTSTART:20171105T060000
END:STANDARD
BEGIN:DAYLIGHT
TZOFFSETFROM:-0500
TZOFFSETTO:-0400
TZNAME:EDT
DTSTART:20180311T070000
END:DAYLIGHT
BEGIN:STANDARD
TZOFFSETFROM:-0400
TZOFFSETTO:-0500
TZNAME:EST
DTSTART:20181104T060000
END:STANDARD
BEGIN:DAYLIGHT
TZOFFSETFROM:-0500
TZOFFSETTO:-0400
TZNAME:EDT
DTSTART:20190310T070000
END:DAYLIGHT
BEGIN:STANDARD
TZOFFSETFROM:-0400
TZOFFSETTO:-0500
TZNAME:EST
DTSTART:20191103T060000
END:STANDARD
BEGIN:DAYLIGHT
TZOFFSETFROM:-0500
TZOFFSETTO:-0400
TZNAME:EDT
DTSTART:20200308T070000
END:DAYLIGHT
BEGIN:STANDARD
TZOFFSETFROM:-0400
TZOFFSETTO:-0500
TZNAME:EST
DTSTART:20201101T060000
END:STANDARD
END:VTIMEZONE
BEGIN:VEVENT
DTSTART;TZID=America/New_York:20190503T170000
DTEND;TZID=America/New_York:20190503T190000
DTSTAMP:20260421T064043
CREATED:20190110T183928Z
LAST-MODIFIED:20190313T170859Z
UID:10000068-1556902800-1556910000@eswp.com
SUMMARY:Younger Member Joint Social
DESCRIPTION:Come hang out with other young professionals from the Pittsburgh area and hear what the various organizations are all about! \nClick on picture for pdf version\n 
URL:https://eswp.com/event/annual-younger-members-joint-social/
LOCATION:Mario’s East Side Saloon\, 5542 Walnut Street\, Pittsburgh\, PA\, 15232\, United States
GEO:40.451494;-79.9323211
X-APPLE-STRUCTURED-LOCATION;VALUE=URI;X-ADDRESS=Mario’s East Side Saloon 5542 Walnut Street Pittsburgh PA 15232 United States;X-APPLE-RADIUS=500;X-TITLE=5542 Walnut Street:geo:-79.9323211,40.451494
END:VEVENT
BEGIN:VEVENT
DTSTART;TZID=America/New_York:20180406T130000
DTEND;TZID=America/New_York:20180406T160000
DTSTAMP:20260421T064043
CREATED:20180313T221330Z
LAST-MODIFIED:20180326T212654Z
UID:10000177-1523019600-1523030400@eswp.com
SUMMARY:Younger Member Joint Social
DESCRIPTION:
URL:https://eswp.com/event/younger-member-joint-social/
LOCATION:Mario’s East Side Saloon\, 5542 Walnut Street\, Pittsburgh\, PA\, 15232\, United States
GEO:40.451494;-79.9323211
X-APPLE-STRUCTURED-LOCATION;VALUE=URI;X-ADDRESS=Mario’s East Side Saloon 5542 Walnut Street Pittsburgh PA 15232 United States;X-APPLE-RADIUS=500;X-TITLE=5542 Walnut Street:geo:-79.9323211,40.451494
END:VEVENT
BEGIN:VEVENT
DTSTART;TZID=America/New_York:20160422T130000
DTEND;TZID=America/New_York:20160422T170000
DTSTAMP:20260421T064043
CREATED:20160412T155106Z
LAST-MODIFIED:20160412T155313Z
UID:10000039-1461330000-1461344400@eswp.com
SUMMARY:Young Member Joint Social
DESCRIPTION:
URL:https://eswp.com/event/young-member-joint-social/
LOCATION:Mario’s East Side Saloon\, 5542 Walnut Street\, Pittsburgh\, PA\, 15232\, United States
CATEGORIES:Technical Society Meetings
GEO:40.451494;-79.9323211
X-APPLE-STRUCTURED-LOCATION;VALUE=URI;X-ADDRESS=Mario’s East Side Saloon 5542 Walnut Street Pittsburgh PA 15232 United States;X-APPLE-RADIUS=500;X-TITLE=5542 Walnut Street:geo:-79.9323211,40.451494
END:VEVENT
END:VCALENDAR