BEGIN:VCALENDAR
VERSION:2.0
PRODID:-//ESWP - ECPv6.15.20//NONSGML v1.0//EN
CALSCALE:GREGORIAN
METHOD:PUBLISH
X-ORIGINAL-URL:https://eswp.com
X-WR-CALDESC:Events for ESWP
REFRESH-INTERVAL;VALUE=DURATION:PT1H
X-Robots-Tag:noindex
X-PUBLISHED-TTL:PT1H
BEGIN:VTIMEZONE
TZID:America/New_York
BEGIN:DAYLIGHT
TZOFFSETFROM:-0500
TZOFFSETTO:-0400
TZNAME:EDT
DTSTART:20160313T070000
END:DAYLIGHT
BEGIN:STANDARD
TZOFFSETFROM:-0400
TZOFFSETTO:-0500
TZNAME:EST
DTSTART:20161106T060000
END:STANDARD
BEGIN:DAYLIGHT
TZOFFSETFROM:-0500
TZOFFSETTO:-0400
TZNAME:EDT
DTSTART:20170312T070000
END:DAYLIGHT
BEGIN:STANDARD
TZOFFSETFROM:-0400
TZOFFSETTO:-0500
TZNAME:EST
DTSTART:20171105T060000
END:STANDARD
BEGIN:DAYLIGHT
TZOFFSETFROM:-0500
TZOFFSETTO:-0400
TZNAME:EDT
DTSTART:20180311T070000
END:DAYLIGHT
BEGIN:STANDARD
TZOFFSETFROM:-0400
TZOFFSETTO:-0500
TZNAME:EST
DTSTART:20181104T060000
END:STANDARD
END:VTIMEZONE
BEGIN:VEVENT
DTSTART;TZID=America/New_York:20170614T133000
DTEND;TZID=America/New_York:20170614T170000
DTSTAMP:20260423T061519
CREATED:20170504T165623Z
LAST-MODIFIED:20170531T180006Z
UID:10000125-1497447000-1497459600@eswp.com
SUMMARY:ESWP Night at PNC Park
DESCRIPTION:Tailgate Party & Baseball Game\n5:30 PM Tailgate Party; 7:05 PM Game Time \nJoin fellow ESWP members and friends for a night at the “old ballyard” at ESWP’s “Night at PNC Park”. Enjoy Reserved seating and watch the Pittsburgh Pirates take on the Colorado Rockies. \nThe package price of $40.00 per person includes\n• Free\, private-lot reserved parking\, courtesy of SMS Group\, at their North Shore office parking lot…only a city-block walk to the entrance of PNC Park (100 Isabella Street)\n• ESWP-catered pre-game tailgate party buffet\n• Group seating at PNC Park (tickets presented at tailgate party)\n• Raffle Prizes \npdf version of flyer \n  \nLimited number of tickets available\, so make your reservations below!
URL:https://eswp.com/event/eswp-night-at-pnc-park-2/
LOCATION:SMS Group Parking Lot\, 100 Sandusky Street\, Pittsburgh\, PA\, 15212\, United States
ORGANIZER;CN="ESWP":MAILTO:eswp@eswp.com
GEO:40.448196;-80.0018798
X-APPLE-STRUCTURED-LOCATION;VALUE=URI;X-ADDRESS=SMS Group Parking Lot 100 Sandusky Street Pittsburgh PA 15212 United States;X-APPLE-RADIUS=500;X-TITLE=100 Sandusky Street:geo:-80.0018798,40.448196
END:VEVENT
END:VCALENDAR