BEGIN:VCALENDAR
VERSION:2.0
PRODID:-//ESWP - ECPv6.15.20//NONSGML v1.0//EN
CALSCALE:GREGORIAN
METHOD:PUBLISH
X-WR-CALNAME:ESWP
X-ORIGINAL-URL:https://eswp.com
X-WR-CALDESC:Events for ESWP
REFRESH-INTERVAL;VALUE=DURATION:PT1H
X-Robots-Tag:noindex
X-PUBLISHED-TTL:PT1H
BEGIN:VTIMEZONE
TZID:America/New_York
BEGIN:DAYLIGHT
TZOFFSETFROM:-0500
TZOFFSETTO:-0400
TZNAME:EDT
DTSTART:20150308T070000
END:DAYLIGHT
BEGIN:STANDARD
TZOFFSETFROM:-0400
TZOFFSETTO:-0500
TZNAME:EST
DTSTART:20151101T060000
END:STANDARD
BEGIN:DAYLIGHT
TZOFFSETFROM:-0500
TZOFFSETTO:-0400
TZNAME:EDT
DTSTART:20160313T070000
END:DAYLIGHT
BEGIN:STANDARD
TZOFFSETFROM:-0400
TZOFFSETTO:-0500
TZNAME:EST
DTSTART:20161106T060000
END:STANDARD
BEGIN:DAYLIGHT
TZOFFSETFROM:-0500
TZOFFSETTO:-0400
TZNAME:EDT
DTSTART:20170312T070000
END:DAYLIGHT
BEGIN:STANDARD
TZOFFSETFROM:-0400
TZOFFSETTO:-0500
TZNAME:EST
DTSTART:20171105T060000
END:STANDARD
BEGIN:DAYLIGHT
TZOFFSETFROM:-0500
TZOFFSETTO:-0400
TZNAME:EDT
DTSTART:20180311T070000
END:DAYLIGHT
BEGIN:STANDARD
TZOFFSETFROM:-0400
TZOFFSETTO:-0500
TZNAME:EST
DTSTART:20181104T060000
END:STANDARD
BEGIN:DAYLIGHT
TZOFFSETFROM:-0500
TZOFFSETTO:-0400
TZNAME:EDT
DTSTART:20190310T070000
END:DAYLIGHT
BEGIN:STANDARD
TZOFFSETFROM:-0400
TZOFFSETTO:-0500
TZNAME:EST
DTSTART:20191103T060000
END:STANDARD
END:VTIMEZONE
BEGIN:VEVENT
DTSTART;TZID=America/New_York:20180926T080000
DTEND;TZID=America/New_York:20180926T170000
DTSTAMP:20260426T003457
CREATED:20180913T143352Z
LAST-MODIFIED:20180913T143352Z
UID:10000203-1537948800-1537981200@eswp.com
SUMMARY:DBIA presents Tappan Zee Procurement
DESCRIPTION:The Design-Build Institute of America Alleghenies Chapter Invites you to attend Tappan Zee Procurement – Understanding the Process \nPDF flyer \nSponsorship Form
URL:https://eswp.com/event/dbia-presents-tappan-zee-procurement/
LOCATION:The Chadwick\, 10545 Perry Highway\, Wexford\, PA\, 15090\, United States
GEO:40.6106406;-80.0571814
X-APPLE-STRUCTURED-LOCATION;VALUE=URI;X-ADDRESS=The Chadwick 10545 Perry Highway Wexford PA 15090 United States;X-APPLE-RADIUS=500;X-TITLE=10545 Perry Highway:geo:-80.0571814,40.6106406
END:VEVENT
BEGIN:VEVENT
DTSTART;TZID=America/New_York:20180405T120000
DTEND;TZID=America/New_York:20180405T143000
DTSTAMP:20260426T003457
CREATED:20180315T214627Z
LAST-MODIFIED:20180315T214627Z
UID:10000179-1522929600-1522938600@eswp.com
SUMMARY:DBIA Liberty Alleghenies Chapter Inaugural Event
DESCRIPTION:Join DBIA Liberty’s newest chapter on Thursday\, April 5th at The Chadwick in Wexford\, PA for an evening of networking and celebration. The DBIA Liberty Alleghenies Chapter is hosting the event\, which kicks off with hors d’oeuvres and a cash bar. Learn more about the organization and listen to panel discussions on local design-build efforts\, and receive professional credits for your participation. Hope to see you there! Government and Facilities Owner Rate: $25\, Members and Non-Members: $30 ($35 at the door) For sponsorship and advertising opportunities\, contact Don Hostutler at don.hostutler@willistowerswatson.com
URL:https://eswp.com/event/dbia-liberty-alleghenies-chapter-inaugural-event/
LOCATION:The Chadwick\, 10545 Perry Highway\, Wexford\, PA\, 15090\, United States
GEO:40.6106406;-80.0571814
X-APPLE-STRUCTURED-LOCATION;VALUE=URI;X-ADDRESS=The Chadwick 10545 Perry Highway Wexford PA 15090 United States;X-APPLE-RADIUS=500;X-TITLE=10545 Perry Highway:geo:-80.0571814,40.6106406
END:VEVENT
BEGIN:VEVENT
DTSTART;TZID=America/New_York:20170427T100000
DTEND;TZID=America/New_York:20170427T120000
DTSTAMP:20260426T003457
CREATED:20170324T002816Z
LAST-MODIFIED:20170425T234021Z
UID:10000119-1493287200-1493294400@eswp.com
SUMMARY:Women's Forum
DESCRIPTION:Registration is closed for this event.  No walk-ins will be allowed. \n 
URL:https://eswp.com/event/womens-forum/
LOCATION:The Chadwick\, 10545 Perry Highway\, Wexford\, PA\, 15090\, United States
GEO:40.6106406;-80.0571814
X-APPLE-STRUCTURED-LOCATION;VALUE=URI;X-ADDRESS=The Chadwick 10545 Perry Highway Wexford PA 15090 United States;X-APPLE-RADIUS=500;X-TITLE=10545 Perry Highway:geo:-80.0571814,40.6106406
END:VEVENT
BEGIN:VEVENT
DTSTART;TZID=America/New_York:20160420T100000
DTEND;TZID=America/New_York:20160420T120000
DTSTAMP:20260426T003457
CREATED:20160315T192337Z
LAST-MODIFIED:20160413T222754Z
UID:10000011-1461146400-1461153600@eswp.com
SUMMARY:Women's Forum with Secretary of Transportation Leslie Richards
DESCRIPTION:The Women’s Forum will include female leaders in the A/E/C industry and will encourage an interactive\, “Town Hall” discussion. \nWomen in all stages of their careers are encouraged to attend.  Light refreshments will be served. \nPanelists include: \n\nLeslie Richards\, PennDOT Secretary of Transportation\nTammi Halapin\, Principal\, Collective Efforts\nCourtney Ehrlichman\, Deputy Executive Director of Technologies for Safe and Efficient Transportation\, the National USDOT UTC for Safety and the Traffic21 Institute at Carnegie Mellon University\nLisa Cooper\, Vice President\, JMT\nBeth Nury\, Owner\, Beth’s Barricades\nJan Oliver\, ALCOSAN\, Director of Regional Conveyance\nMODERATOR: Cheryl Moon-Sirianni\, PennDOT District 11-0 ADE-Design\n\n  \nThis event has sold out.  Please check back for updates.  If you need to contact us\, please email here.\n  \n       
URL:https://eswp.com/event/town-hall-event/
LOCATION:The Chadwick\, 10545 Perry Highway\, Wexford\, PA\, 15090\, United States
CATEGORIES:Technical Society Meetings
GEO:40.6106406;-80.0571814
X-APPLE-STRUCTURED-LOCATION;VALUE=URI;X-ADDRESS=The Chadwick 10545 Perry Highway Wexford PA 15090 United States;X-APPLE-RADIUS=500;X-TITLE=10545 Perry Highway:geo:-80.0571814,40.6106406
END:VEVENT
END:VCALENDAR