BEGIN:VCALENDAR
VERSION:2.0
PRODID:-//ESWP - ECPv6.15.20//NONSGML v1.0//EN
CALSCALE:GREGORIAN
METHOD:PUBLISH
X-ORIGINAL-URL:https://eswp.com
X-WR-CALDESC:Events for ESWP
REFRESH-INTERVAL;VALUE=DURATION:PT1H
X-Robots-Tag:noindex
X-PUBLISHED-TTL:PT1H
BEGIN:VTIMEZONE
TZID:America/New_York
BEGIN:DAYLIGHT
TZOFFSETFROM:-0500
TZOFFSETTO:-0400
TZNAME:EDT
DTSTART:20180311T070000
END:DAYLIGHT
BEGIN:STANDARD
TZOFFSETFROM:-0400
TZOFFSETTO:-0500
TZNAME:EST
DTSTART:20181104T060000
END:STANDARD
BEGIN:DAYLIGHT
TZOFFSETFROM:-0500
TZOFFSETTO:-0400
TZNAME:EDT
DTSTART:20190310T070000
END:DAYLIGHT
BEGIN:STANDARD
TZOFFSETFROM:-0400
TZOFFSETTO:-0500
TZNAME:EST
DTSTART:20191103T060000
END:STANDARD
BEGIN:DAYLIGHT
TZOFFSETFROM:-0500
TZOFFSETTO:-0400
TZNAME:EDT
DTSTART:20200308T070000
END:DAYLIGHT
BEGIN:STANDARD
TZOFFSETFROM:-0400
TZOFFSETTO:-0500
TZNAME:EST
DTSTART:20201101T060000
END:STANDARD
END:VTIMEZONE
BEGIN:VEVENT
DTSTART;TZID=America/New_York:20190621T183000
DTEND;TZID=America/New_York:20190621T203000
DTSTAMP:20260421T133924
CREATED:20190319T190802Z
LAST-MODIFIED:20190617T135517Z
UID:10000219-1561141800-1561149000@eswp.com
SUMMARY:ESWP YMF TopGolf Outing
DESCRIPTION:Join us for a Night of Networking & Food…\nChicken Tenders\, Pulled Pork Sliders\, Chocolate Chip Cookie Bites and more….\nPurchase your tickets below!  $40 for members\, $50 for Non-Members and a limited number of Non-Golfers at $25\n  \nSponsorships of $100 are available and include the following: \n\nRecognition as a sponsor at the event\nListing of Your Company Logo and Website on the ESWP Event Page\nCompany Logo on Event Flyer\nSocial Media Recognition\n\n  \n  \n  \n  \n          \n  \nTopgolf Sponsorship Form
URL:https://eswp.com/event/eswp-ymf-topgolf/
LOCATION:Topgolf\, 400 Presto-Sygan Road\, Bridgeville\, PA\, 15017\, United States
ORGANIZER;CN="ESWP":MAILTO:eswp@eswp.com
GEO:40.3668415;-80.1228275
X-APPLE-STRUCTURED-LOCATION;VALUE=URI;X-ADDRESS=Topgolf 400 Presto-Sygan Road Bridgeville PA 15017 United States;X-APPLE-RADIUS=500;X-TITLE=400 Presto-Sygan Road:geo:-80.1228275,40.3668415
END:VEVENT
END:VCALENDAR