BEGIN:VCALENDAR
VERSION:2.0
PRODID:-//ESWP - ECPv6.15.20//NONSGML v1.0//EN
CALSCALE:GREGORIAN
METHOD:PUBLISH
X-ORIGINAL-URL:https://eswp.com
X-WR-CALDESC:Events for ESWP
REFRESH-INTERVAL;VALUE=DURATION:PT1H
X-Robots-Tag:noindex
X-PUBLISHED-TTL:PT1H
BEGIN:VTIMEZONE
TZID:America/New_York
BEGIN:DAYLIGHT
TZOFFSETFROM:-0500
TZOFFSETTO:-0400
TZNAME:EDT
DTSTART:20190310T070000
END:DAYLIGHT
BEGIN:STANDARD
TZOFFSETFROM:-0400
TZOFFSETTO:-0500
TZNAME:EST
DTSTART:20191103T060000
END:STANDARD
BEGIN:DAYLIGHT
TZOFFSETFROM:-0500
TZOFFSETTO:-0400
TZNAME:EDT
DTSTART:20200308T070000
END:DAYLIGHT
BEGIN:STANDARD
TZOFFSETFROM:-0400
TZOFFSETTO:-0500
TZNAME:EST
DTSTART:20201101T060000
END:STANDARD
BEGIN:DAYLIGHT
TZOFFSETFROM:-0500
TZOFFSETTO:-0400
TZNAME:EDT
DTSTART:20210314T070000
END:DAYLIGHT
BEGIN:STANDARD
TZOFFSETFROM:-0400
TZOFFSETTO:-0500
TZNAME:EST
DTSTART:20211107T060000
END:STANDARD
END:VTIMEZONE
BEGIN:VEVENT
DTSTART;TZID=America/New_York:20200311T180000
DTEND;TZID=America/New_York:20200311T210000
DTSTAMP:20260423T060349
CREATED:20200211T212051Z
LAST-MODIFIED:20200212T122328Z
UID:10000087-1583949600-1583960400@eswp.com
SUMMARY:ASHE Bowling Social
DESCRIPTION:Break those winter doldrums and plan on attending the ASHE Pittsburgh Winter Bowling social.\nReserve your spot below…. \n \n  \nOops! We could not locate your form.
URL:https://eswp.com/event/ashe-bowling-social/
LOCATION:Zone 28\, 2525 Freeport Road\, Pittsburgh\, PA\, 15238\, United States
GEO:40.5351341;-79.8442923
X-APPLE-STRUCTURED-LOCATION;VALUE=URI;X-ADDRESS=Zone 28 2525 Freeport Road Pittsburgh PA 15238 United States;X-APPLE-RADIUS=500;X-TITLE=2525 Freeport Road:geo:-79.8442923,40.5351341
END:VEVENT
END:VCALENDAR